BEGIN:VCALENDAR
VERSION:2.0
PRODID:-//Pop &amp; Jazz Konservatorio - ECPv6.15.20//NONSGML v1.0//EN
CALSCALE:GREGORIAN
METHOD:PUBLISH
X-WR-CALNAME:Pop &amp; Jazz Konservatorio
X-ORIGINAL-URL:https://popjazz.fi
X-WR-CALDESC:Tapahtumat for Pop &amp; Jazz Konservatorio
REFRESH-INTERVAL;VALUE=DURATION:PT1H
X-Robots-Tag:noindex
X-PUBLISHED-TTL:PT1H
BEGIN:VTIMEZONE
TZID:Europe/Helsinki
BEGIN:DAYLIGHT
TZOFFSETFROM:+0200
TZOFFSETTO:+0300
TZNAME:EEST
DTSTART:20250330T010000
END:DAYLIGHT
BEGIN:STANDARD
TZOFFSETFROM:+0300
TZOFFSETTO:+0200
TZNAME:EET
DTSTART:20251026T010000
END:STANDARD
BEGIN:DAYLIGHT
TZOFFSETFROM:+0200
TZOFFSETTO:+0300
TZNAME:EEST
DTSTART:20260329T010000
END:DAYLIGHT
BEGIN:STANDARD
TZOFFSETFROM:+0300
TZOFFSETTO:+0200
TZNAME:EET
DTSTART:20261025T010000
END:STANDARD
BEGIN:DAYLIGHT
TZOFFSETFROM:+0200
TZOFFSETTO:+0300
TZNAME:EEST
DTSTART:20270328T010000
END:DAYLIGHT
BEGIN:STANDARD
TZOFFSETFROM:+0300
TZOFFSETTO:+0200
TZNAME:EET
DTSTART:20271031T010000
END:STANDARD
END:VTIMEZONE
BEGIN:VEVENT
DTSTART;TZID=Europe/Helsinki:20260330T153000
DTEND;TZID=Europe/Helsinki:20260508T200000
DTSTAMP:20260422T005419
CREATED:20260126T133131Z
LAST-MODIFIED:20260401T064830Z
UID:7357-1774884600-1778270400@popjazz.fi
SUMMARY:Musiikin taiteen perusopetuksen instrumenttimatineat
DESCRIPTION:Musiikin taiteen perusopetuksen instrumenttimatineat alkavat! \n\n\n\nInstrumenttimatineoissa kuullaan kuukauden ajan musiikkia lähes päivittäin. Konsertit järjestetään Soivan 2. kerroksen aulassa\, ravintola Luovassa ja luokkatiloissa. \n\n\n\nAikataulu:  \n\n\n\nBasso / 2. kerroksen aulama 30.3. klo 16.30 ja 18.30ti 31.3. klo 15.30ke 1.4. klo 15.30 ja 17.30to 2.4. klo 16.30 \n\n\n\nPuhaltimet / 2 kerroksen aulama 13.4. klo 16.00 ja 17.30\, klo 19.00 ravintola Luovati 14.4. klo 16.00 ja 17.30ke 15.4. klo 16.00 ja 17.30to 16.4. klo 16.00 ja 17.30pe 17.4. klo 16.00 ja 17.30 \n\n\n\nRummut / AS228ma 20.4. klo 16.30 ja klo 17.30ti 21.4. klo 18.30ke 22.4. klo 18.00. ja 19.00to 23.4. klo 17.00 ja 18.00 \n\n\n\nLyömäsoittimet / 2. kerroksen aulati 21.4. klo 17.00ke 22.4. klo 16.30 \n\n\n\nLaulu / ravintola Luovama 20.4. klo 17.00 ja 18.30ti 21.4. klo 17.00 ja 18.30ke 22.4. klo 17.00 ja 18.30 \n\n\n\nPiano / ravintola Luovati 28.4. klo 17.00ke 29.4. klo 17.00 \n\n\n\nKitara / 2. kerroksen aulama 4.5. klo 16.30 ja 17.30ti 5.5. klo 16.30 ja 17.30ke 6.5. klo 16.30\, 17.30 ja 19.00to 7.5. klo 17.30pe 8.5. klo 16.00 \n\n\n\nVapaa pääsy!
URL:https://popjazz.fi/tapahtuma/musiikin-taiteen-perusopetuksen-instrumenttimatineat-2/
LOCATION:Pop & Jazz Konservatorio\, Muotoilijankatu 1 B\, Helsinki\, 00560
ATTACH;FMTTYPE=image/webp:https://popjazz.fi/wp-content/uploads/2026/01/Nettikuva-3.webp
ORGANIZER;CN="Pop & Jazz Konservatorio":MAILTO:info@popjazz.fi
END:VEVENT
BEGIN:VEVENT
DTSTART;TZID=Europe/Helsinki:20260422T180000
DTEND;TZID=Europe/Helsinki:20260422T200000
DTSTAMP:20260422T005419
CREATED:20260330T121627Z
LAST-MODIFIED:20260330T121856Z
UID:7931-1776880800-1776888000@popjazz.fi
SUMMARY:PopJazz @ Bistro Bryk
DESCRIPTION:Bistro Brykin tunnelmalliset musiikki-illat kutsuvat sinut kuuntelemaan Pop & Jazz Konservatorion ammattiopiskelijoiden duo- ja triotyöpajan satoa. Tervetuloa! \n\n\n\nklo 18 Niittykukkaset \n\n\n\nklo 19 Nukkuvat Linnut – duo \n\n\n\nVapaa pääsy! \n\n\n\nNiittykukkasetNiittykukkaset-duo soittaa tunnelmallisia\, akustisia covereita tunnetuista pop-kappaleista. <3Aino Kallio – LauluSiiri Manninen – Kitara ja taustalauluOhjaava opettaja: Vili ItäpeltoKuva: Nanna Louhela \n\n\n\nNukkuvat Linnut – duoTiedätkö\, missä linnut nukkuvat? Ne tuudittautuvat unille metsän siimekseen\, näkymättömiin.Linnut laulavat kauniisti\, mutta nukkuessaan ne ovat lähes näkymättömiä. Nukkuvat Linnut -yhtye edustaa niitä\, jotka jäävät varjoon ja joiden ääni hukkuu hälinään. All-female yhtye laulaa tarinoista\, jotka peittyvät yön pimeyteen. Vuonna 2024 perustettu indie-pop/rock yhtye nosti itsensä suomimusan indie-skeneen vuoden 2025 aikana julkaisemalla neljä singleä sekä debyytti-EP:n ””Olipa Kerran / Sen Pituinen Se””. Tällä erityisellä keikalla on mahdollisuus kuulla yhtyeen musiikkia intiimin duo-kokoonpanon saattelemana. Nähdään siis Bistro Brykissä!Helmi Ketola – laulu ja pianoSofía Kaipainen – lauluOhjaava opettaja: Vili ItäpeltoKuva: Max Tabell
URL:https://popjazz.fi/tapahtuma/popjazz-bistro-bryk-4/
LOCATION:Bistro Bryk\, Hämeentie 135A\, Helsinki\, 00560\, Finland
ATTACH;FMTTYPE=image/webp:https://popjazz.fi/wp-content/uploads/2026/03/PopJazz-@-Bistro-Bryk-telkku-2.webp
END:VEVENT
BEGIN:VEVENT
DTSTART;TZID=Europe/Helsinki:20260427T190000
DTEND;TZID=Europe/Helsinki:20260427T210000
DTSTAMP:20260422T005419
CREATED:20260119T111752Z
LAST-MODIFIED:20260223T144243Z
UID:7294-1777316400-1777323600@popjazz.fi
SUMMARY:PopJazz @ Malmitalo
DESCRIPTION:Malmitalon isossa salissa kuullaan musiikkia Pop & Jazz Konservatorion ammattiopiskelijoiden esittämänä.  \n\n\n\nAikatauluklo 19.00 Unelmiin mä jään -Disneymusikaaliklo 20.00 GAGA – The Mayhem Miniature \n\n\n\nVapaa pääsy. \n\n\n\nTervetuloa! \n\n\n\nUnelmiin mä jään -DisneymusikaaliUnelmiin mä jään -Disneymusikaali kertoo kahden eri taustoista tulevan nuoren ystävyydestä. Cindy (Jenna Mikkanen) ja Rosie (Aino Oikarinen) kohtaavat musiikkikoulussa yhteisen unelmansa äärellä\, ja heidän välinen ystävyys alkaa kuin itsestään. Vanhat tuulet puhaltavat koulun käytäville\, mikä saa ystävysten välit rakoilemaan\, ja entisen elämän vaietut salaisuudet nousevat jälleen pintaan. Miksi menneisyyttä salataan? Kuka huijaa ketä? Miten Cindyn ja Rosien ystävyydelle käy? \n\n\n\n“Unelmiin mä jään” on Helsingin Pop & Jazz Konservatorion opiskelijoiden käsikirjoittama ja ohjaama teos. Lavalla nähdään yli 20-henkinen kokoonpano\, joka herättää eloon uuden tarinan Disneyn klassikoiden säestämänä. Tule näkemään\, kun satukirja avautuu\, ja kuule lempi Disney-kappaleesi livenä. \n\n\n\nSolistit:Laulu – Jenna MikkanenLaulu – Aino OIkarinen \n\n\n\nBändi:Piano – Helmi KetolaKitara – Elvan DeveciBasso – Daniel BoswellRummut – Vilppu LokkiPerkat – Joel Mäntyvaara \n\n\n\nOrkesteri:Alttoviulu – Elena RusakovaViulu – Ellen HellbergViulu – Riina ÅmannSello – Olivia SirénSaksofoni – Eemeli YlianttilaKlarinetti – Silja MuttonenHuilu – Anniina TuomaalaPasuuna – Emily MiettunenTrumpetti – Joona Hirvonen \n\n\n\nEnsemble:Taustalaulu – Aino KallioTaustalaulu – Minttu TenhovirtaTaustalaulu – Aurora KonttinenTaustalaulu – Ruut Särkijärvi \n\n\n\nLaulu – Panu LaaksoKertoja – Axel ArttioKuvaus: Emmi KettunenEditointi: Anna Oikarinen \n\n\n\nGAGA – The Mayhem MiniatureGAGA – The Mayhem Miniature’ on kokonaisvaltainen pienoismalli Lady Gagan 2025-2026 konserttikiertueesta The Mayhem Ball Tour. Lavashow’sta on tehty artistinsa arvoinen\, mikä sisältää kahden koreografin tanssikoreografiat\, kahdeksan hengen livebändin\, sekä laulusolistin sovituksen ja ohjauksen läpi ohjelmiston. Solistina toimii kokonaisvaltainen esiintyjä ja ammattilaulaja Saimi Räty. Ohjelmisto on monipuolinen\, kuten Gagan omalla kiertueellakin. Tulet esimerkiksi kuulemaan kappaleita legendaariselta The Fame -albumilta\, sekä myös uusimmalta läpilyöneeltä albumilta Mayhem. Olitpa sitten Gaga -fani taikka et\, tämä on mahdollisuus nauttia taidokkaimmista laulunuoteista\, vahvan elektronisen musiikin voimasta\, sekä ammattitason tanssijoista\, laulusolisti tanssijana mukaanlukien. Tervetuloa Mayhemiin!Saimi Räty – vocOnni Koivisto – drumsSofía Kaipainen – bass\, synth bassElli Astikainen – synth\, synth bassAamu Kallio – keys\, synthPyry Aaltonen – guitarElizabeth Krause – B vocKuva: Saimi Räty
URL:https://popjazz.fi/tapahtuma/popjazz-malmitalo-4/
LOCATION:Malmitalo\, Ala-Malmin tori 1\, Helsinki\, 00700
ATTACH;FMTTYPE=image/webp:https://popjazz.fi/wp-content/uploads/2026/01/Malmitalo-27.4.netti_.webp
END:VEVENT
BEGIN:VEVENT
DTSTART;TZID=Europe/Helsinki:20260430T190000
DTEND;TZID=Europe/Helsinki:20260430T210000
DTSTAMP:20260422T005419
CREATED:20260119T112040Z
LAST-MODIFIED:20260305T082308Z
UID:7296-1777575600-1777582800@popjazz.fi
SUMMARY:PopJazz @ Malmitalo
DESCRIPTION:Malmitalon isossa salissa kuullaan musiikkia Pop & Jazz Konservatorion ammattiopiskelijoiden esittämänä.  \n\n\n\nAikatauluklo 19.00 Pessi Lehtinen Quartetklo 20.00 SADETTA LUVASSA \n\n\n\nVapaa pääsy. \n\n\n\nTervetuloa! \n\n\n\nPessi Lehtinen QuartetKvartetti soittaa modernia jazzia\, jossa yhdistyvät pohjoisen avoin sointi ja nykyjazzin urbaani energia. Vibrafonisti ja säveltäjä Pessi Lehtisen johdolla yhtye rakentaa musiikkia\, joka elää improvisaatiosta ja vahvasta vuorovaikutuksesta. Kvartetti on parhaillaan valmistelemassa debyyttialbumiaan\, jonka julkaisu on suunnitteilla vuodelle 2026. \n\n\n\nPessi Lehtinen – vibrafoni\, sävellyksetTobias Schenk – pianoSanteri Saari – rummutJoel Wikström – kontrabasso \n\n\n\nKuva: Janne Lehtinen \n\n\n\nSADETTA LUVASSASADETTA LUVASSA: Suomen tyylikkäin kunnianosoitus Saden musiikille \n\n\n\nSadetta luvassa on 6-henkinen tribuuttiyhtye\, joka tempaisee yleisön mukaansa smooth jazzin ja r&b:n maailmaan Saden musiikin avulla. Yhtye aloitti uransa 1980-luvulla julkaisemalla debyyttialbuminsa Diamond Life (1984)\, johon kuului muun muassa tunnetut hitit Smooth Operator ja Your Love Is King. Tähänkin päivään asti yhtyettä kuunnellaan maailmanlaajuisesti ja Sade Adu tunnetaan yhtenä maailman mieleenpainuvimmista laulajista. Luvassa on musiikkia monilta eri albumeilta\, ja settilistaan kuuluu maailman rakastamat hitit. \n\n\n\nOttakaa sateenvarjot mukaan\, sillä illalla on SADETTA LUVASSA!Siiri Manninen – Kitara ja taustalauluHelmi Ketola – Koskettimet ja taustalauluEmmi Kettunen – LauluLassi Seppälä – RummutTeemu Majuri – Basso ja taustalauluEemeli Ylä-Anttila – SaksofoniKuva: Sofía Kaipainen
URL:https://popjazz.fi/tapahtuma/popjazz-malmitalo-5/
LOCATION:Malmitalo\, Ala-Malmin tori 1\, Helsinki\, 00700
ATTACH;FMTTYPE=image/webp:https://popjazz.fi/wp-content/uploads/2026/01/Malmitalo-30.4-2.webp
END:VEVENT
BEGIN:VEVENT
DTSTART;TZID=Europe/Helsinki:20260504T170000
DTEND;TZID=Europe/Helsinki:20260507T210000
DTSTAMP:20260422T005419
CREATED:20260409T110758Z
LAST-MODIFIED:20260409T110801Z
UID:7990-1777914000-1778187600@popjazz.fi
SUMMARY:Musiikin taiteen perusopetuksen konserttiviikko
DESCRIPTION:Musiikin taiteen perusopetuksen konserttiviikko täyttää Arabiasalin! Konserttiviikolla kuullaan perusopetuksen bändejä ja kokoonpanoja. Näitä konsertteja kannattaa tulla kuuntelemaan kauempaakin! \n\n\n\nVapaa pääsy! \n\n\n\nEsiintyjät ilmoitetaan lähempänä konsertteja.
URL:https://popjazz.fi/tapahtuma/musiikin-taiteen-perusopetuksen-konserttiviikko-4/
LOCATION:Arabiasali\, Muotoilijankatu 1 B\, Helsinki\, 00560\, Finland
ATTACH;FMTTYPE=image/webp:https://popjazz.fi/wp-content/uploads/2026/04/Perusopetuksen-konserttiviikko-Esitys2026-4.webp
ORGANIZER;CN="Pop & Jazz Konservatorio":MAILTO:info@popjazz.fi
END:VEVENT
BEGIN:VEVENT
DTSTART;TZID=Europe/Helsinki:20260505T133000
DTEND;TZID=Europe/Helsinki:20260505T153000
DTSTAMP:20260422T005419
CREATED:20260202T105836Z
LAST-MODIFIED:20260202T105837Z
UID:7387-1777987800-1777995000@popjazz.fi
SUMMARY:Päivätanssit @ Sellosali
DESCRIPTION:Suosituissa päivätansseissa Sellosalin lämpiössä pyörähdellään elävän musiikin tahdissa. Tanssittamassa Pop & Jazz Konservatorion opiskelijoista koostuva yhtye Mustat Kissat. \n\n\n\nMustat Kissat on tuore ja energinen tanssibändi\, joka tuo lavatanssien maailmaan uuden sukupolven svengin ja soittotaidon! Yhtye koostuu Pop & Jazz Konservatorion ammattiopiskelijoista\, joita yhdistää rakkaus elävään musiikkiin ja tanssittaviin rytmeihin. \n\n\n\nVaikka Mustat Kissat ovat uusi tuttavuus tanssilavoilla\, bändin jäsenet ovat kokeneita muusikoita monien eri tyylilajien parista. Tämä kuuluu soitossa\, sillä ohjelmisto on monipuolinen ja tyylinmukainen. Sulavasti kulkevat mm. valssi\, foxtrot ja tango kuin myös bugg\, rumba ja jive. \n\n\n\nMustat Kissat haluavat luoda jokaiselle kuulijalle hetken\, jossa yhdistyvät lämmin ilmapiiri\, taitava soitto ja tanssilattian ilo. Lavalle astuessaan he tuovat mukanaan tuoretta energiaa ja aitoa tekemisen riemua! \n\n\n\nVapaa pääsy. Ovet Sellosaliin avataan klo 13.00. \n\n\n\nKesto 2 h\, sis. väliajan. Kahvio avoinna. \n\n\n\nMustat KissatSiiri Ihanamäki – koskettimetTeemu Majuri – bassoEmmi Kettunen – lauluAino Kallio – lauluJaro Väisänen – rummutAukusti Koskinen – kitara \n\n\n\nKuva: Tuuli Peltonen
URL:https://popjazz.fi/tapahtuma/paivatanssit-sellosali-10/
LOCATION:Sellosalin lämpiö\, Soittoniekanaukio 1 A\, Espoo\, 02600\, Finland
ATTACH;FMTTYPE=image/webp:https://popjazz.fi/wp-content/uploads/2026/02/PAIVATANSSIT-naytot-Esitys-2.webp
END:VEVENT
BEGIN:VEVENT
DTSTART;TZID=Europe/Helsinki:20260505T200000
DTEND;TZID=Europe/Helsinki:20260505T230000
DTSTAMP:20260422T005419
CREATED:20260119T110633Z
LAST-MODIFIED:20260421T120010Z
UID:7292-1778011200-1778022000@popjazz.fi
SUMMARY:PopJazz @ Bar Loose
DESCRIPTION:Bar Loosessa fiilistellään Pop & Jazz Konservatorion ammatillisten opiskelijoiden kokoonpanojen energistä meininkiä kevään viimeisen kerran! Tule ja koe! \n\n\n\nAikataulu:  \n\n\n\nKlo 20 HottechsKlo 21 Kuumat käpälätKlo 22 Päijänne \n\n\n\nK18. Vapaa pääsy! \n\n\n\nTervetuloa! \n\n\n\nHottechsHelka Hokkanen – laulu\, synaPohto Hahkio – piano\, synaNuutti Ollikka – rummutJoel Belinskij- kitaraJoonas Frestadius – kitaraAleksi Muhonen – bassoOhjaava opettaja: Antti SaukkoKuva: Oskari Turunen \n\n\n\nKuumat käpälätKuumat Käpälät on lanteita liikuttava bändi\, joka soittaa funkkia\, fuusiota ja joskus vähän rokkiakin. Ohjelmistoon sisältyy vanhoja klassikoita ja nykypäivän ihmeitä\, sekä niiden välissä julkaistuja kappaleita.Bändi skulaa paljon instrumentaaleja\, mutta jottei rytmisektiolla tule liian yksinäiseksi\, osaan showsta liittyy mukaan laulaja täyttämään taajuuksia.Ellen Hellberg\, vocJosias Myllyaho\, asaxAtte Autio\, tsaxAbel Säily\, gtrViljami Liikkanen\, keysJuuso Parjanen\, bassOtso Thomsson\, drs \n\n\n\nOhjaava opettaja: Petteri HietamäkiKuva: Otso Thomson \n\n\n\nPäijännePäijänne on Helsingistä nouseva yhtye\, joka koostuu 9 jäsenestä\, 0 Emma-ehdokkuudesta ja 100% heittäytymisestä. Päijänne soittaa popista kevyeen rokkiin ja groovaavaan funkkiin omalla tyylillään\, erottuen joukosta tarkasti hiotuilla puhallinsovituksillaan. Tule vielä\, kun lippuja on saatavilla!Emmi Hänninen – Laulu ja koskettimetOlivia Sirén – Laulu Roland Oriander – Kitara ja lauluMatias Örn – KitaraLeo Schrader – BassoMikke Repo – RummutEelis Vihermaa – Tenorisaksofoni ja koskettimetJaakko Ojakangas – AlttosaksofoniRiina Åman – ViuluOhjaava opettaja: Antti SaukkoKuva: Otso Thomson
URL:https://popjazz.fi/tapahtuma/popjazz-bar-loose-14/
LOCATION:Bar Loose\, Annankatu 21\, Helsinki\, 00100
ATTACH;FMTTYPE=image/webp:https://popjazz.fi/wp-content/uploads/2026/01/ti-5.5.2026-4.webp
END:VEVENT
BEGIN:VEVENT
DTSTART;TZID=Europe/Helsinki:20260508T180000
DTEND;TZID=Europe/Helsinki:20260508T190000
DTSTAMP:20260422T005419
CREATED:20260414T113724Z
LAST-MODIFIED:20260414T113726Z
UID:7996-1778263200-1778266800@popjazz.fi
SUMMARY:Riffi ja Groove -kuorojen kevätkonsertti
DESCRIPTION:Pop & Jazz Konservatorion lapsikuorot Riffi (5-6v) ja Groove (7-11v) ilahduttavat kuulijoita vesiteemaisella konsertilla ja laulamisen riemulla.  \n\n\n\nKannattaa tulla vaikka koko perheen voimin seurailemaan keitä kaikkia vedessä asustaa\, mitä puuhailee pieni vesirotta ja miten värit liittyvät veteen. Lavalla nähdään kuorojen lisäksi myös nuoria solisteja – sekä laulajia että soittajia.  \n\n\n\nKonserttiin on vapaa pääsy. Konsertin kesto on n. 35min. \n\n\n\nKuoroihin ilmoittautuminen on käynnissä!Kuorot:  \n\n\n\n\n5-10-vuotiaille: https://popjazz.eepos.fi/#/forms/38\n\n\n\nSwing-nuorisokuoro 11v. -> Nuorisokuoroon haetaan soveltuvuustestin kautta. Haku sulkeutuu 11.5.2026. Soveltuvuustestit pidetään viikoilla 21 ja 22/2026.:  https://popjazz.eepos.fi/#/forms/29
URL:https://popjazz.fi/tapahtuma/riffi-ja-groove-kuorojen-kevatkonsertti/
LOCATION:Arabiasali\, Muotoilijankatu 1 B\, Helsinki\, 00560\, Finland
ATTACH;FMTTYPE=image/webp:https://popjazz.fi/wp-content/uploads/2026/04/Kuorojen-konsertti-kevat-2026-2.webp
ORGANIZER;CN="Pop & Jazz Konservatorio":MAILTO:info@popjazz.fi
END:VEVENT
BEGIN:VEVENT
DTSTART;TZID=Europe/Helsinki:20260518T173000
DTEND;TZID=Europe/Helsinki:20260520T173000
DTSTAMP:20260422T005419
CREATED:20260421T100226Z
LAST-MODIFIED:20260421T100418Z
UID:8008-1779125400-1779298200@popjazz.fi
SUMMARY:Musiikin taiteen perusopetuksen konserttiviikko vol.2
DESCRIPTION:Musiikin taiteen perusopetuksen konserttiviikko jatkuu soitinvalmennuksen\, bändipajojen ja Pre-amp-ryhmien konserteilla. Arabiasalissa nähdään ja kuullaan yhdessä soittamisen riemua! Tervetuloa! \n\n\n\nAikataulu:  \n\n\n\nMa 18.5. klo 17.30 Soitinvalmennuksen Musapaja-konsertti  \n\n\n\nTi 19.5. klo 17.30 Bändipajan konsertti 1  \n\n\n\nTi 19.5. klo 18.30 Bändipajan konsertti 2 \n\n\n\nKe 20.5. klo 16.00 Pre-amp -ryhmien konsertti  \n\n\n\nVapaa pääsy! \n\n\n\n \n\n\n\nHaku soitinvalmennukseen\, Swing-nuorisokuoroon ja taiteen perusopetukseen päättyy maanantaina 18.5. kello 23.59. \n\n\n\nSoitinvalmennus 1-3-luokkalaisille \n\n\n\nSoitinvalmennukseen haetaan soveltuvuustestin kautta. Haku sulkeutuu 18.5.2026. Soveltuvuustestit pidetään viikoilla 21 ja 22/2026.: https://popjazz.eepos.fi/#/forms/35 \n\n\n\nLue lisää soitinvalmennuksesta: https://popjazz.fi/koulutustarjonta-musiikkiopetus/musiikista-harrastus-lapselle/soitinvalmennus/ \n\n\n\nBändipajat lapsille ja aikuisille \n\n\n\nLapsille: https://popjazz.eepos.fi/#/forms/39 \n\n\n\nBändipaja on hauska ja helppo tapa aloittaa musiikkiharrastus! Bändipajan kautta lapsi pääsee mukaan musiikin maailmaan ja asiantuntevan opetuksen pariin matalalla kynnyksellä\, ilman soveltuvuuskokeita ja haastatteluja. Tunneilla tutustutaan perinteisiin bändisoittimiin: sähkökitara\, sähköbasso\, koskettimet\, laulu\, rumpusetti ja lyömäsoittimet\, välillä instrumenttia vaihdellen. \n\n\n\nAikuisille: https://popjazz.eepos.fi/#/forms/40 \n\n\n\nAikuisten bändipaja tarjoaa mahdollisuuden harrastaa rennosti rytmimusiikkia kerran viikossa. Tunneilla soitetaan perinteisiä bändisoittimia (sähkökitara\, sähköbasso\, koskettimet\, laulu\, rumpusetti). Tunnin aikana vaihdetaan soittimia\, jotta kaikki halukkaat pääsevät soittamaan mahdollisimman monipuolisesti niitä. \n\n\n\nTaiteen perusopetus 7v. -> \n\n\n\n\nOpiskelu Pop & Jazz Konservatoriossa on niin sanottua laajan oppimäärän mukaista opiskelua. Se tarkoittaa sitä\, että jokaiselle oppilaalle opintoihin sisältyy oman instrumentin opiskelu\, hahmotusaineet eli musiikin luku- ja kirjoitustaito\, länsimaisen populaarimusiikin historia sekä yhdessä soittaminen. \n\n\n\nhaetaan soveltuvuustestin kautta. Haku sulkeutuu maanantaina 18.5.2026. Soveltuvuustestit pidetään viikoilla 21 ja 22/2026.:  https://popjazz.eepos.fi/#/forms/29
URL:https://popjazz.fi/tapahtuma/musiikin-taiteen-perusopetuksen-konserttiviikko-vol-2/
LOCATION:Arabiasali\, Muotoilijankatu 1 B\, Helsinki\, 00560\, Finland
ATTACH;FMTTYPE=image/webp:https://popjazz.fi/wp-content/uploads/2026/04/Perusopetuksen-konserttiviikko-Esitys2026-5.webp
ORGANIZER;CN="Pop & Jazz Konservatorio":MAILTO:info@popjazz.fi
END:VEVENT
END:VCALENDAR